BEGIN:VCALENDAR
VERSION:2.0
PRODID:-//Österlens Släkt- och Folklivsforskarförening - ECPv6.15.20//NONSGML v1.0//EN
CALSCALE:GREGORIAN
METHOD:PUBLISH
X-ORIGINAL-URL:https://www.osterlenanor.se
X-WR-CALDESC:Händelser för Österlens Släkt- och Folklivsforskarförening
REFRESH-INTERVAL;VALUE=DURATION:PT1H
X-Robots-Tag:noindex
X-PUBLISHED-TTL:PT1H
BEGIN:VTIMEZONE
TZID:Europe/Paris
BEGIN:DAYLIGHT
TZOFFSETFROM:+0100
TZOFFSETTO:+0200
TZNAME:CEST
DTSTART:20250330T010000
END:DAYLIGHT
BEGIN:STANDARD
TZOFFSETFROM:+0200
TZOFFSETTO:+0100
TZNAME:CET
DTSTART:20251026T010000
END:STANDARD
BEGIN:DAYLIGHT
TZOFFSETFROM:+0100
TZOFFSETTO:+0200
TZNAME:CEST
DTSTART:20260329T010000
END:DAYLIGHT
BEGIN:STANDARD
TZOFFSETFROM:+0200
TZOFFSETTO:+0100
TZNAME:CET
DTSTART:20261025T010000
END:STANDARD
BEGIN:DAYLIGHT
TZOFFSETFROM:+0100
TZOFFSETTO:+0200
TZNAME:CEST
DTSTART:20270328T010000
END:DAYLIGHT
BEGIN:STANDARD
TZOFFSETFROM:+0200
TZOFFSETTO:+0100
TZNAME:CET
DTSTART:20271031T010000
END:STANDARD
END:VTIMEZONE
BEGIN:VEVENT
DTSTART;TZID=Europe/Paris:20260507T130000
DTEND;TZID=Europe/Paris:20260507T160000
DTSTAMP:20260419T225148
CREATED:20251130T205418Z
LAST-MODIFIED:20251130T205418Z
UID:12445-1778158800-1778169600@www.osterlenanor.se
SUMMARY:Släktforskarhjälp Onslunda
DESCRIPTION:Är Du nybörjare eller har Du kört fast i din släktforskning? Vi hjälper Dig!\nOnslunda bibliotek kl. 13-16
URL:https://www.osterlenanor.se/evenemang/slaktforskarhjalp-onslunda-2/
LOCATION:Onslunda bibliotek\, Blomstrands väg\, Tomelilla\, 273 95\, Sweden
ATTACH;FMTTYPE=image/jpeg:https://www.osterlenanor.se/wp-content/uploads/2024/10/Slaktforskarjour.jpg
END:VEVENT
BEGIN:VEVENT
DTSTART;TZID=Europe/Paris:20260512T130000
DTEND;TZID=Europe/Paris:20260512T160000
DTSTAMP:20260419T225148
CREATED:20251130T203910Z
LAST-MODIFIED:20251130T203910Z
UID:12421-1778590800-1778601600@www.osterlenanor.se
SUMMARY:Släktforskarhjälp Smedstorp
DESCRIPTION:Är Du nybörjare eller har Du kört fast i din släktforskning? Vi hjälper Dig!\nSmedstorps bibliotek kl. 13-16
URL:https://www.osterlenanor.se/evenemang/slaktforskarhjalp-smedstorp-9/
LOCATION:Smedstorps bibliotek\, Kommunalgatan 6\, Smedstorp\, Sweden
ATTACH;FMTTYPE=image/jpeg:https://www.osterlenanor.se/wp-content/uploads/2024/11/Medlemstraff.jpg
END:VEVENT
BEGIN:VEVENT
DTSTART;TZID=Europe/Paris:20260512T180000
DTEND;TZID=Europe/Paris:20260512T210000
DTSTAMP:20260419T225148
CREATED:20251130T124232Z
LAST-MODIFIED:20251130T124232Z
UID:12413-1778608800-1778619600@www.osterlenanor.se
SUMMARY:Medlemsträff Simrishamn
DESCRIPTION:Medlemsträff på Vuxenskolan i Simrishamn\, Mossgatan 1\, start kl. 18.00
URL:https://www.osterlenanor.se/evenemang/medlemstraff-simrishamn-7/
LOCATION:Vuxenskolan i Simrishamn\, Mossgatan 1\, Simrishamn
ATTACH;FMTTYPE=image/jpeg:https://www.osterlenanor.se/wp-content/uploads/2024/05/20240515_174121-scaled.jpg
END:VEVENT
BEGIN:VEVENT
DTSTART;TZID=Europe/Paris:20260513T150000
DTEND;TZID=Europe/Paris:20260513T180000
DTSTAMP:20260419T225148
CREATED:20251130T204924Z
LAST-MODIFIED:20251130T204924Z
UID:12439-1778684400-1778695200@www.osterlenanor.se
SUMMARY:Släktforskarhjälp Brösarp
DESCRIPTION:Är Du nybörjare eller har Du kört fast i din släktforskning? Vi hjälper Dig!\nBrösarps bibliotek kl. 15-18
URL:https://www.osterlenanor.se/evenemang/slaktforskarhjalp-brosarp-7/
LOCATION:Brösarps bibliotek\, Magistervägen 9\, Brösarp\, 27350\, Sweden
ATTACH;FMTTYPE=image/jpeg:https://www.osterlenanor.se/wp-content/uploads/2025/09/Brosarps-bibliotek-2025a-scaled.jpg
END:VEVENT
BEGIN:VEVENT
DTSTART;TZID=Europe/Paris:20260520T130000
DTEND;TZID=Europe/Paris:20260520T160000
DTSTAMP:20260419T225148
CREATED:20251130T204534Z
LAST-MODIFIED:20251130T204534Z
UID:12431-1779282000-1779292800@www.osterlenanor.se
SUMMARY:Släktforskarhjälp Tomelilla
DESCRIPTION:Är Du nybörjare eller har Du kört fast i din släktforskning? Vi hjälper Dig!\nTomelilla bibliotek kl. 13-16
URL:https://www.osterlenanor.se/evenemang/slaktforskarhjalp-tomelilla-9/
LOCATION:Tomelilla bibliotek\, Centralgatan 13\, Tomelilla\, Sweden
ATTACH;FMTTYPE=image/jpeg:https://www.osterlenanor.se/wp-content/uploads/2025/09/Tomelilla-2025-scaled.jpg
END:VEVENT
BEGIN:VEVENT
DTSTART;TZID=Europe/Paris:20260528T160000
DTEND;TZID=Europe/Paris:20260528T183000
DTSTAMP:20260419T225148
CREATED:20251130T123716Z
LAST-MODIFIED:20260224T182244Z
UID:12405-1779984000-1779993000@www.osterlenanor.se
SUMMARY:Släktforskarhjälp Simrishamn
DESCRIPTION:Är Du nybörjare eller har Du kört fast i din släktforskning? Vi hjälper Dig!\nSimrishamns bibliotek kl. 16:00-18:30
URL:https://www.osterlenanor.se/evenemang/slaktforskarhjalp-simrishamn-4/
LOCATION:Simrishamns bibliotek\, Järnvägsgatan 2\, Simrishamn
ATTACH;FMTTYPE=image/jpeg:https://www.osterlenanor.se/wp-content/uploads/2024/10/Slaktforskarjour-2025.jpg
END:VEVENT
END:VCALENDAR